BEGIN:VCALENDAR
VERSION:2.0
PRODID:-//SME Centre@SICCI - ECPv6.15.20//NONSGML v1.0//EN
CALSCALE:GREGORIAN
METHOD:PUBLISH
X-ORIGINAL-URL:https://www.smecentre-sicci.sg
X-WR-CALDESC:Events for SME Centre@SICCI
REFRESH-INTERVAL;VALUE=DURATION:PT1H
X-Robots-Tag:noindex
X-PUBLISHED-TTL:PT1H
BEGIN:VTIMEZONE
TZID:Asia/Shanghai
BEGIN:STANDARD
TZOFFSETFROM:+0800
TZOFFSETTO:+0800
TZNAME:CST
DTSTART:20250101T000000
END:STANDARD
END:VTIMEZONE
BEGIN:VEVENT
DTSTART;TZID=Asia/Shanghai:20260115T140000
DTEND;TZID=Asia/Shanghai:20260115T160000
DTSTAMP:20260421T064420
CREATED:20251205T085202Z
LAST-MODIFIED:20251216T060812Z
UID:10000029-1768485600-1768492800@www.smecentre-sicci.sg
SUMMARY:Global AI Compliance & Regulations: Governance Frameworks and International Standards
DESCRIPTION:This session explores how organisations can harness the transformative power of artificial intelligence while responsibly managing its risks. \nIt highlights the importance of striking a balance between driving innovation and safeguarding ethical\, legal\, and operational standards. \nA live demo will be presented to demonstrate how a centralised platform can be used for governing\, monitoring\, and managing risks in the development or deployment of your AI systems. \n\n\n\n\n\n\nKey Learning Points: \n\n​Embed Ethical Principles and Regulatory Compliance for AI Systems.\nImplement Continuous Monitoring and Auditing for Drift.\nBuild Trust and Accountability through AI Governance and Risk-based Approach.\n\n\nProgramme:\n\n\n\n\nTime\nAgenda\n\n\n1.30pm – 2pm\nWebinar Starts\n\n\n2pm – 2.30pm\nAI Governance & Support for SMEs: Navigate Singapore’s AI Climate\nMr Thiruvarsu S/O V Damodharan\nManager\, Business Advisory\nSME Centre@SICCI\n\n\n2.30pm – 3.15pm\nBalancing Innovation and AI Risks – The Role of AI Governance in Your Organisation\nMr Ooi Kok Rie\nManaging Partner\nFly Pipper Consulting Group Pte Ltd\n\n\n3.15pm – 4pm\nAI Governance Compliance Tool Demo\nMr Jona Boeddinghaus\nManaging Director\nDaiki GmbH\n\n\n4pm\nWebinar Ends\n\n\n\n\n  \nSpeakers’ Profiles:\n\n\n\n\n\n \nMr Ooi Kok Rie\nManaging Partner\nFly Pipper Consulting Group Pte Ltd \nAs a visionary leader and also a board advisor for various companies\, Kok Rie founded Fly Pipper Consulting Group and is the managing partner of the company. He has more than 25 years working experiences in industries cover wide fields from Cybersecurity\, AI Ethics and Governance\, Space Tech\, Sustainability and quantum safe networks. Kok Rie is a Certified AI Governance Professional and also hold multiple industries accredited certifications from Cybersecurity and Sustainability. He earned his MBA from Imperial College of London and BSC Computing from Monash University\, Australia and attended various AI Ethics and Governance courses from Nanyang Technological University\, Singapore and other institutions. \n \nMr Jona Boeddinghaus\nManaging Director\nDaiki GmbH \nJona is co-founder and managing director of DAIKI and multiple software and machine learning companies\, including Gradient Zero\, Aqua Predict\, and Ao Health. With over 20 years of experience in software development and artificial intelligence he is an expert in software and data architecture\, machine learning and AI ethics. Jona earned his Magister Artium degree in Philosophy (master thesis about the philosophy of mind)\, Computer Science\, and Cognitive Science from the University Freiburg\, Germany. \n \nMr Thiruvarsu S/O V Damodharan\nManager\, Business Advisory\nSME Centre@SICCI \nAs a Business Advisor at SME Centre@SICCI\, Thiru Damodharan partners with small and medium enterprises (SMEs) to support their growth and transformation journeys. With over 20 years of experience across industries—including semiconductors\, consulting\, operations\, and business development—he brings practical insights and strategic guidance to help businesses navigate challenges and seize opportunities. \nThiru holds a master’s degree in Asian business management from Fudan University and the National University of Singapore\, and a bachelor’s degree in Materials Engineering from Nanyang Technological University. His diverse background enables him to understand the unique needs of SMEs across various sectors. \nWhether advising on productivity\, branding\, internationalisation\, or digitalisation\, Thiru combines a collaborative approach with actionable advice. He is passionate about enabling local enterprises to scale sustainably and stay competitive in today’s evolving marketplace. At the core of his work is a commitment to empower business owners with clarity\, confidence\, and the right tools to succeed.
URL:https://www.smecentre-sicci.sg/event/global-ai-compliance-regulations-governance-frameworks-and-international-standards/
LOCATION:Zoom Webinar\, Singapore
CATEGORIES:Business Community Engagement,Capability Workshops
ATTACH;FMTTYPE=image/png:https://www.smecentre-sicci.sg/wp-content/uploads/2025/12/15-Jan-2026-Global-AI-Compliance-Banner-v1-1280-x-720-px.png
ORGANIZER;CN="SME Centre@SICCI":MAILTO:events@smecentre-sicci.sg
GEO:1.352083;103.819836
END:VEVENT
END:VCALENDAR